BEGIN:VCALENDAR
VERSION:2.0
PRODID:-//Verus LLC - ECPv6.15.20//NONSGML v1.0//EN
CALSCALE:GREGORIAN
METHOD:PUBLISH
X-WR-CALNAME:Verus LLC
X-ORIGINAL-URL:https://verusllc.com
X-WR-CALDESC:Events for Verus LLC
REFRESH-INTERVAL;VALUE=DURATION:PT1H
X-Robots-Tag:noindex
X-PUBLISHED-TTL:PT1H
BEGIN:VTIMEZONE
TZID:America/New_York
BEGIN:DAYLIGHT
TZOFFSETFROM:-0500
TZOFFSETTO:-0400
TZNAME:EDT
DTSTART:20230312T070000
END:DAYLIGHT
BEGIN:STANDARD
TZOFFSETFROM:-0400
TZOFFSETTO:-0500
TZNAME:EST
DTSTART:20231105T060000
END:STANDARD
BEGIN:DAYLIGHT
TZOFFSETFROM:-0500
TZOFFSETTO:-0400
TZNAME:EDT
DTSTART:20240310T070000
END:DAYLIGHT
BEGIN:STANDARD
TZOFFSETFROM:-0400
TZOFFSETTO:-0500
TZNAME:EST
DTSTART:20241103T060000
END:STANDARD
BEGIN:DAYLIGHT
TZOFFSETFROM:-0500
TZOFFSETTO:-0400
TZNAME:EDT
DTSTART:20250309T070000
END:DAYLIGHT
BEGIN:STANDARD
TZOFFSETFROM:-0400
TZOFFSETTO:-0500
TZNAME:EST
DTSTART:20251102T060000
END:STANDARD
BEGIN:DAYLIGHT
TZOFFSETFROM:-0500
TZOFFSETTO:-0400
TZNAME:EDT
DTSTART:20260308T070000
END:DAYLIGHT
BEGIN:STANDARD
TZOFFSETFROM:-0400
TZOFFSETTO:-0500
TZNAME:EST
DTSTART:20261101T060000
END:STANDARD
END:VTIMEZONE
BEGIN:VEVENT
DTSTART;TZID=America/New_York:20250916T080000
DTEND;TZID=America/New_York:20250917T170000
DTSTAMP:20260423T183714
CREATED:20250210T151144Z
LAST-MODIFIED:20250815T141335Z
UID:22655-1758009600-1758128400@verusllc.com
SUMMARY:National Asbestos Litigation Conference- Perrin Conferences
DESCRIPTION:Perrin Conferences\, a women-owned leader in litigation education\, delivers premier CLE/CE programs through conferences\, webinars\, and industry events. Since 2009\, we have brought together legal professionals\, insurers\, and experts to explore key litigation topics\, from asbestos and opioids to environmental risk and insurance coverage.
URL:https://verusllc.com/event/national-asbestos-litigation-conference-perrin-conferences/
LOCATION:The Charleston Place Hotel\, Charleston\, South Carolina
ATTACH;FMTTYPE=image/jpeg:https://verusllc.com/wp-content/uploads/2025/02/PC-Sept.jpg
END:VEVENT
BEGIN:VEVENT
DTSTART;TZID=America/New_York:20250912T090000
DTEND;TZID=America/New_York:20250912T163000
DTSTAMP:20260423T183714
CREATED:20250528T171622Z
LAST-MODIFIED:20250528T171744Z
UID:22836-1757667600-1757694600@verusllc.com
SUMMARY:ALI - MDL in Motion: Evolving Practices\, Emerging Leaders\, and Reform
DESCRIPTION:Step into the center of today’s most important conversations about multidistrict litigation (MDL). This conference brings together an unparalleled lineup of renowned judges\, influential thought leaders\, and rising professionals to explore the evolution\, challenges\, and future of MDL practice.
URL:https://verusllc.com/event/ali-mdl-in-motion-evolving-practices-emerging-leaders-and-reform/
LOCATION:NYU School of Law\, New York\, 40 Washington Square S\, New York\, NY\, 10012\, United States
ATTACH;FMTTYPE=image/png:https://verusllc.com/wp-content/uploads/2025/05/ali.png
END:VEVENT
BEGIN:VEVENT
DTSTART;VALUE=DATE:20250909
DTEND;VALUE=DATE:20250911
DTSTAMP:20260423T183714
CREATED:20250815T141845Z
LAST-MODIFIED:20250815T141845Z
UID:22963-1757376000-1757548799@verusllc.com
SUMMARY:2025 Eastern Region Meeting
DESCRIPTION:New Jersey Attorney General Matthew J. Platkin will host the 2025 Eastern Region meeting. Join him\, fellow attorneys general\, and public safety leaders from across the Eastern Region for “Reimagining Public Safety\,” a two-day conference in Asbury Park\, New Jersey. The event will explore innovative\, community-centered strategies to reduce violence\, improve crisis response\, and expand access to justice. \nTopics Include: \n\nTrauma-informed policing\nCivil Enforcement\nAI Risks\nEnvironmental justice\n\nAttendees will gain insight into practical tools and multidisciplinary partnerships shaping the future of public safety. Highlights include keynote speakers\, a fireside chat at the iconic Stone Pony\, and opportunities for cross-state collaboration.
URL:https://verusllc.com/event/2025-eastern-region-meeting/
LOCATION:Berkeley Oceanfront Hotel\, 1401 Ocean Ave\, Asbury Park\, NJ\, 07712\, United States
ATTACH;FMTTYPE=image/png:https://verusllc.com/wp-content/uploads/2025/08/Screenshot-2025-08-15-101706.png
END:VEVENT
BEGIN:VEVENT
DTSTART;VALUE=DATE:20250904
DTEND;VALUE=DATE:20250907
DTSTAMP:20260423T183714
CREATED:20250815T142228Z
LAST-MODIFIED:20250815T142228Z
UID:22967-1756944000-1757203199@verusllc.com
SUMMARY:Fourth Annual Shades of Mass Conference
DESCRIPTION:The Fourth Annual Shades of Mass Conference is here. Join the movement to elevate representative leadership in cases that shape the nation.
URL:https://verusllc.com/event/fourth-annual-shades-of-mass-conference/
LOCATION:JW Marriott L.A. Live\, Los Angeles\, CA\, United States
ATTACH;FMTTYPE=image/png:https://verusllc.com/wp-content/uploads/2025/08/Screenshot-2025-08-15-102145.png
END:VEVENT
BEGIN:VEVENT
DTSTART;TZID=America/New_York:20250828T130000
DTEND;TZID=America/New_York:20250828T140000
DTSTAMP:20260423T183714
CREATED:20250709T145741Z
LAST-MODIFIED:20251229T142914Z
UID:22909-1756386000-1756389600@verusllc.com
SUMMARY:The Straight Truth: Exploring the Science and Litigation Behind Hair Relaxer Claims
DESCRIPTION:The Straight Truth: Exploring the Science and Litigation Behind Hair Relaxer Claims\n\n\nJoin us for this complementary CLE webinar on August 28\, 2025 from 1:00- 2:00 PM ET.  \nWebinar Sponsored By: \n\n \nSpeakers: \n\n\n\n\n\nModerator: Mark Eveland\, Founder and Chief Strategy Officer\, Verus LLC\nTope Leyimu\, Esq.\, Motley Rice LLC\nAlexandra Pecora\, Esq.\, Goldberg Segalla
URL:https://verusllc.com/event/hair-relaxer-litigation-webinar-an-update/
LOCATION:Webinar
ATTACH;FMTTYPE=image/png:https://verusllc.com/wp-content/uploads/2025/07/Screenshot-2025-07-16-140420.png
END:VEVENT
BEGIN:VEVENT
DTSTART;TZID=America/New_York:20250718T080000
DTEND;TZID=America/New_York:20250722T170000
DTSTAMP:20260423T183714
CREATED:20250418T162312Z
LAST-MODIFIED:20250421T164758Z
UID:22732-1752825600-1753203600@verusllc.com
SUMMARY:American Association for Justice (AAJ) Summer Conference
DESCRIPTION:Verus is proud to sponsor the Environmental and Toxic Torts Section Meeting at the American Association for Justice (AAJ) 2025 Annual Convention Summer Conference. This event brings together legal professionals to discuss key issues in environmental law and toxic torts.
URL:https://verusllc.com/event/american-association-for-justice-aaj-summer-conference/
LOCATION:AAJ Annual Convention\, San Francisco\, CA\, United States
ATTACH;FMTTYPE=image/png:https://verusllc.com/wp-content/uploads/2025/04/aaj.png
ORGANIZER;CN="Verus will be attending":MAILTO:tcole@verusllc.com
END:VEVENT
BEGIN:VEVENT
DTSTART;TZID=America/New_York:20250617T080000
DTEND;TZID=America/New_York:20250618T170000
DTSTAMP:20260423T183714
CREATED:20250210T150223Z
LAST-MODIFIED:20250602T145058Z
UID:22652-1750147200-1750266000@verusllc.com
SUMMARY:Environmental Risk and PFAS Litigation Conference- Perrin Conferences-
DESCRIPTION:Mark Eveland Panel\, Wednesday June 18\, 2025 @ 10:45 AM – 11:30 AM – Outlook on Mass Tort Reform \n• Current MDLs\, bellwether trends and emerging jurisdictions • Is now the time for Mass Tort reform? • Barrier to overcome to see this change enacted • Challenging expert opinions • Potential settlement frameworks and approaches to risk forecasting \nPerrin Conferences\, a women-owned leader in litigation education\, provides top-tier CLE/CE programs through conferences\, webinars\, and specialized events. Since 2009\, we have connected legal professionals\, insurers\, and industry experts to discuss critical litigation topics\, including asbestos\, opioids\, environmental risk\, and insurance coverage.
URL:https://verusllc.com/event/environmental-risk-and-pfas-litigation-conference-perrin-conferences/
LOCATION:New York City Bar Association\, New York\, NY
ATTACH;FMTTYPE=image/jpeg:https://verusllc.com/wp-content/uploads/2025/02/PC-Environmental-June.jpg
END:VEVENT
BEGIN:VEVENT
DTSTART;TZID=America/New_York:20250612T080000
DTEND;TZID=America/New_York:20250612T170000
DTSTAMP:20260423T183714
CREATED:20250602T142059Z
LAST-MODIFIED:20250709T145442Z
UID:22858-1749715200-1749747600@verusllc.com
SUMMARY:Emerging Frontiers in Mass Tort: Navigating GLP-1 and Depo Provera Litigation- Webinar
DESCRIPTION:Emerging Frontiers in Mass Tort: Navigating GLP-1 and Depo Provera Litigation – A strategic look at two high-impact pharmaceutical MDLs and how to prepare. \n\nJoin us for this complementary CLE webinar on June 12\, 2025 from 2:00- 3:00 PM ET.  \nWebinar Sponsored By: Verus \nSpeaking: Mark Eveland\, Founder and Chief Strategy Officer\, Verus LLC
URL:https://verusllc.com/event/emerging-frontiers-in-mass-tort-navigating-glp-1-and-depo-provera-litigation-webinar/
ATTACH;FMTTYPE=image/png:https://verusllc.com/wp-content/uploads/2025/06/Mark-Eveland-2-scaled.png
ORGANIZER;CN="Verus LLC is a proud Sponsor":MAILTO:ncroke@verusllc.com
END:VEVENT
BEGIN:VEVENT
DTSTART;TZID=America/New_York:20250529T083000
DTEND;TZID=America/New_York:20250529T170000
DTSTAMP:20260423T183714
CREATED:20250422T174349Z
LAST-MODIFIED:20250422T174349Z
UID:22747-1748507400-1748538000@verusllc.com
SUMMARY:AAI- 26th Annual Policy Conference – The State of the Antitrust Technocracy
DESCRIPTION:AAI’s 26th Annual Policy Conference will seek to advance this goal. Three panels of speakers will offer insights\, analysis\, and recommendations for applying the antitrust laws in a climate of political upheaval and skepticism of experts. Panelists will grapple with the risks and opportunities presented by recent efforts to (1) reduce or eliminate economic complexity from Sherman Act enforcement\, (2) rethink or reinvent merger policy\, and (3) apply political pressure to agency enforcement agendas.
URL:https://verusllc.com/event/aai-26th-annual-policy-conference-the-state-of-the-antitrust-technocracy/
LOCATION:National Press Club\, 529 14th Street NW\, 13th Floor\, Washington\, MD\, 20045\, United States
ATTACH;FMTTYPE=image/png:https://verusllc.com/wp-content/uploads/2025/04/aai.png
END:VEVENT
BEGIN:VEVENT
DTSTART;TZID=America/New_York:20250528T070000
DTEND;TZID=America/New_York:20250528T170000
DTSTAMP:20260423T183714
CREATED:20250418T161658Z
LAST-MODIFIED:20250421T165115Z
UID:22729-1748415600-1748451600@verusllc.com
SUMMARY:HarrisMartin's MDL Conference
DESCRIPTION:
URL:https://verusllc.com/event/mdl-conference/
LOCATION:Salamander DC\, 1330 Maryland Avenue SW\, Washington\, MD\, 20024\, United States
ATTACH;FMTTYPE=image/png:https://verusllc.com/wp-content/uploads/2025/04/h.png
END:VEVENT
BEGIN:VEVENT
DTSTART;TZID=America/New_York:20250520T080000
DTEND;TZID=America/New_York:20250520T170000
DTSTAMP:20260423T183714
CREATED:20250210T145839Z
LAST-MODIFIED:20250220T185000Z
UID:22649-1747728000-1747760400@verusllc.com
SUMMARY:Talc Litigation Conference- Perrin Conferences
DESCRIPTION:Perrin Conferences\, a women-owned leader in litigation education\, offers premier CLE/CE programs\, including conferences\, webinars\, and mock trials. Since 2009\, we’ve brought together top legal professionals\, insurers\, and industry experts to discuss key litigation topics such as asbestos\, opioids\, environmental risk\, and insurance coverage.
URL:https://verusllc.com/event/talc-litigation-conference-perrin-conferences/
LOCATION:The Midland Hotel Chicago\, IL
ATTACH;FMTTYPE=image/jpeg:https://verusllc.com/wp-content/uploads/2025/02/PC-May-Chicago.jpg
ORGANIZER;CN="Mark Eveland will be a panelist":MAILTO:meveland@verusllc.com
END:VEVENT
BEGIN:VEVENT
DTSTART;TZID=America/New_York:20250408T080000
DTEND;TZID=America/New_York:20250408T170000
DTSTAMP:20260423T183714
CREATED:20250210T142345Z
LAST-MODIFIED:20250210T142345Z
UID:22636-1744099200-1744131600@verusllc.com
SUMMARY:HarrisMartin’s Artificial Stone Silicosis Epidemic Litigation Conference
DESCRIPTION:The Disease – Artificial stone causes a particular type of silicosis called accelerated silicosis\, which occurs 5-10 years after initial exposure and is characterized by specific pathology called progressive massive fibrosis\n• The Product – The unique features of artificial stone that are allegedly responsible for this new epidemic\n• Industrial Hygiene – Exposure monitoring of crystalline silica\n• The new California Emergency Temporary Standard for artificial stone fabrication recently adopted by Cal-OSHA\n• Insurance coverage issues – especially the silica exclusion\n• The different categories of defendants – manufacturers\, importers\, distributors\, retailers\, brokers\, and others\n• Theories of liability and defenses\n• and more!
URL:https://verusllc.com/event/harrismartins-artificial-stone-silicosis-epidemic-litigation-conference/
LOCATION:Westin Long Beach\, CA
ATTACH;FMTTYPE=image/jpeg:https://verusllc.com/wp-content/uploads/2025/02/HM-Long-Beach-.jpg
ORGANIZER;CN="Verus LLC is a proud Sponsor":MAILTO:ncroke@verusllc.com
END:VEVENT
BEGIN:VEVENT
DTSTART;TZID=America/New_York:20250401T080000
DTEND;TZID=America/New_York:20250403T170000
DTSTAMP:20260423T183714
CREATED:20250210T152646Z
LAST-MODIFIED:20250210T152646Z
UID:22658-1743494400-1743699600@verusllc.com
SUMMARY:MTMP - Spring 2025
DESCRIPTION:Mass Torts Made Perfect is more than just a conference – it’s a place for plaintiff attorneys and their paralegals to connect\, network\, and learn the latest insights and strategies on the top mass tort and class action lawsuits in the country.
URL:https://verusllc.com/event/mtmp-spring-2025/
LOCATION:Wynn Las Vegas\, Nevada\, United States
ATTACH;FMTTYPE=image/jpeg:https://verusllc.com/wp-content/uploads/2025/02/MTMP-April.jpg
ORGANIZER;CN="Verus will be attending":MAILTO:tcole@verusllc.com
END:VEVENT
BEGIN:VEVENT
DTSTART;TZID=America/New_York:20250326T080000
DTEND;TZID=America/New_York:20250326T170000
DTSTAMP:20260423T183714
CREATED:20250210T135312Z
LAST-MODIFIED:20250721T172854Z
UID:22630-1742976000-1743008400@verusllc.com
SUMMARY:HarrisMartin's MDL Conference
DESCRIPTION:Verus is proud to support HarrisMartin conferences\, advancing collaboration and insights in mass tort litigation.
URL:https://verusllc.com/event/harrismartins-mdl-conference/
LOCATION:Omni Charlotte Hotel\, United States
ATTACH;FMTTYPE=image/jpeg:https://verusllc.com/wp-content/uploads/2025/02/March-HM-conference-.jpg
ORGANIZER;CN="Verus LLC is a proud Sponsor":MAILTO:ncroke@verusllc.com
END:VEVENT
BEGIN:VEVENT
DTSTART;TZID=America/New_York:20250326T073000
DTEND;TZID=America/New_York:20250326T120000
DTSTAMP:20260423T183714
CREATED:20250210T140843Z
LAST-MODIFIED:20250721T172814Z
UID:22634-1742974200-1742990400@verusllc.com
SUMMARY:HarrisMartin's Data Breach Litigation Conference
DESCRIPTION:
URL:https://verusllc.com/event/harrismartins-data-breach-litigation-conference/
LOCATION:Omni Charlotte Hotel\, United States
ATTACH;FMTTYPE=image/jpeg:https://verusllc.com/wp-content/uploads/2025/02/Data-Breach-March-.jpg
ORGANIZER;CN="Verus LLC is a proud Sponsor":MAILTO:ncroke@verusllc.com
END:VEVENT
BEGIN:VEVENT
DTSTART;TZID=America/New_York:20250324T080000
DTEND;TZID=America/New_York:20250327T170000
DTSTAMP:20260423T183714
CREATED:20250220T185544Z
LAST-MODIFIED:20250721T172740Z
UID:22673-1742803200-1743094800@verusllc.com
SUMMARY:LEGALWEEK
DESCRIPTION:Described as the “leading conference for the legal technology industry\,” and one that “hits all the marks for information\, education\, and networking”\, Legalweek transcends the traditional conference model to deliver unparalleled expertise\, networking\, and technological innovation.
URL:https://verusllc.com/event/legalweek/
LOCATION:New York Hilton Midtown\, 1335 Avenue of Americas\, New York\, NY\, 10019\, United States
ORGANIZER;CN="Verus will be attending":MAILTO:tcole@verusllc.com
END:VEVENT
BEGIN:VEVENT
DTSTART;TZID=America/New_York:20250304T080000
DTEND;TZID=America/New_York:20250305T170000
DTSTAMP:20260423T183714
CREATED:20250210T145330Z
LAST-MODIFIED:20250721T172705Z
UID:22646-1741075200-1741194000@verusllc.com
SUMMARY:Cutting-Edge Issues in Asbestos Litigation Conference
DESCRIPTION:Perrin Conferences\, a women-owned business\, is the premier national provider of joint plaintiff/defense litigation conferences\, webinars\, and legal education programs. Since 2009\, we have set the standard in CLE/CE professional education and networking\, bringing together top legal minds\, in-house counsel\, insurers\, and industry experts. Our conferences cover key litigation topics\, including asbestos\, environmental risk\, opioids\, insurance coverage\, sexual abuse\, and construction defects.
URL:https://verusllc.com/event/cutting-edge-issues-in-asbestos-litigation-conference/
LOCATION:Edin Roc Miami Beach\, FL
ATTACH;FMTTYPE=image/jpeg:https://verusllc.com/wp-content/uploads/2025/02/PC-March.jpg
ORGANIZER;CN="Mark Eveland will be a panelist":MAILTO:meveland@verusllc.com
END:VEVENT
BEGIN:VEVENT
DTSTART;TZID=America/New_York:20250227T080000
DTEND;TZID=America/New_York:20250227T170000
DTSTAMP:20260423T183714
CREATED:20250210T134750Z
LAST-MODIFIED:20250721T172626Z
UID:22627-1740643200-1740675600@verusllc.com
SUMMARY:HarrisMartin's New Jersey Asbestos Litigation Conference
DESCRIPTION:Verus proudly supports HarrisMartin conferences\, fostering collaboration and knowledge-sharing in mass tort & class action litigation. We look forward to engaging with industry leaders to drive positive change.
URL:https://verusllc.com/event/harrismartins-new-jersey-asbestos-litigation-conference/
LOCATION:Hyatt Regency New Brunswick\, NJ
ATTACH;FMTTYPE=image/jpeg:https://verusllc.com/wp-content/uploads/2025/02/Asbestos-Feb-HM.jpg
END:VEVENT
BEGIN:VEVENT
DTSTART;TZID=America/New_York:20250215T080000
DTEND;TZID=America/New_York:20250218T170000
DTSTAMP:20260423T183714
CREATED:20250210T144610Z
LAST-MODIFIED:20250211T130237Z
UID:22642-1739606400-1739898000@verusllc.com
SUMMARY:AAJ 2025 Winter Convention
DESCRIPTION:
URL:https://verusllc.com/event/aaj-2025-winter-convention/
LOCATION:The Fontainebleau Miami Beach\, FL\, United States
ATTACH;FMTTYPE=image/jpeg:https://verusllc.com/wp-content/uploads/2025/02/AAJ-February-.jpg
ORGANIZER;CN="Verus is sponsoring the New Lawyers Division":MAILTO:tcole@verusllc.com
END:VEVENT
BEGIN:VEVENT
DTSTART;TZID=America/New_York:20250129T080000
DTEND;TZID=America/New_York:20250129T170000
DTSTAMP:20260423T183714
CREATED:20250210T134326Z
LAST-MODIFIED:20250210T134326Z
UID:22625-1738137600-1738170000@verusllc.com
SUMMARY:HarrisMartin's MDL Conference: Depo-Provera and Current MDL Cases
DESCRIPTION:At Verus\, we are proud to support HarrisMartin and their impactful conferences\, which unite legal professionals dedicated to advancing justice in mass tort litigation. Our sponsorship underscores our commitment to fostering collaboration and knowledge-sharing within the legal community. We look forward to engaging with industry leaders at these events to drive positive change.\n 
URL:https://verusllc.com/event/harrismartins-mdl-conference-depo-provera-and-current-mdl-cases/
LOCATION:Harris Martin Conferences\, Miami\, FL\, United States
ATTACH;FMTTYPE=image/jpeg:https://verusllc.com/wp-content/uploads/2025/02/depo-provera-jan-.jpg
END:VEVENT
BEGIN:VEVENT
DTSTART;TZID=America/New_York:20250125T080000
DTEND;TZID=America/New_York:20250129T170000
DTSTAMP:20260423T183714
CREATED:20250210T143134Z
LAST-MODIFIED:20250210T143134Z
UID:22639-1737792000-1738170000@verusllc.com
SUMMARY:National Trial Lawyers Summit
DESCRIPTION:
URL:https://verusllc.com/event/national-trial-lawyers-summit/
LOCATION:Loews Hotel Miami\, FL
ATTACH;FMTTYPE=image/jpeg:https://verusllc.com/wp-content/uploads/2025/02/national-trial-lawyers-picture.jpg
END:VEVENT
BEGIN:VEVENT
DTSTART;VALUE=DATE:20241211
DTEND;VALUE=DATE:20241212
DTSTAMP:20260423T183714
CREATED:20240726T131842Z
LAST-MODIFIED:20241018T210740Z
UID:20289-1733875200-1733961599@verusllc.com
SUMMARY:Perrin Conferences
DESCRIPTION:Mark Eveland will be a panelist
URL:https://verusllc.com/event/perrin-conferences-2/
LOCATION:Perrin Conferences\, New York\, NY\, United States
ATTACH;FMTTYPE=image/jpeg:https://verusllc.com/wp-content/uploads/2024/07/perrin_conf_ny.jpg
END:VEVENT
BEGIN:VEVENT
DTSTART;VALUE=DATE:20240927
DTEND;VALUE=DATE:20240928
DTSTAMP:20260423T183714
CREATED:20240726T131236Z
LAST-MODIFIED:20250915T145149Z
UID:20282-1727395200-1727481599@verusllc.com
SUMMARY:Harris Martin Midwest Asbestos Litigation Conference
DESCRIPTION:
URL:https://verusllc.com/event/harris-martin-conferences/
LOCATION:Harris Martin Conferences\, Miami\, FL\, United States
ATTACH;FMTTYPE=image/jpeg:https://verusllc.com/wp-content/uploads/2024/07/harris_martin.jpg
END:VEVENT
BEGIN:VEVENT
DTSTART;VALUE=DATE:20240719
DTEND;VALUE=DATE:20240724
DTSTAMP:20260423T183714
CREATED:20240726T125954Z
LAST-MODIFIED:20260420T093153Z
UID:20268-1721347200-1721779199@verusllc.com
SUMMARY:AAJ Annual Convention
DESCRIPTION:
URL:https://verusllc.com/event/aaj-annual-convention/
LOCATION:AAJ Annual Convention\, San Francisco\, CA\, United States
ATTACH;FMTTYPE=image/jpeg:https://verusllc.com/wp-content/uploads/2024/07/aaj_annual.jpg
END:VEVENT
END:VCALENDAR