BEGIN:VCALENDAR
VERSION:2.0
PRODID:-//Verus LLC - ECPv6.15.20//NONSGML v1.0//EN
CALSCALE:GREGORIAN
METHOD:PUBLISH
X-WR-CALNAME:Verus LLC
X-ORIGINAL-URL:https://verusllc.com
X-WR-CALDESC:Events for Verus LLC
REFRESH-INTERVAL;VALUE=DURATION:PT1H
X-Robots-Tag:noindex
X-PUBLISHED-TTL:PT1H
BEGIN:VTIMEZONE
TZID:America/New_York
BEGIN:DAYLIGHT
TZOFFSETFROM:-0500
TZOFFSETTO:-0400
TZNAME:EDT
DTSTART:20240310T070000
END:DAYLIGHT
BEGIN:STANDARD
TZOFFSETFROM:-0400
TZOFFSETTO:-0500
TZNAME:EST
DTSTART:20241103T060000
END:STANDARD
BEGIN:DAYLIGHT
TZOFFSETFROM:-0500
TZOFFSETTO:-0400
TZNAME:EDT
DTSTART:20250309T070000
END:DAYLIGHT
BEGIN:STANDARD
TZOFFSETFROM:-0400
TZOFFSETTO:-0500
TZNAME:EST
DTSTART:20251102T060000
END:STANDARD
BEGIN:DAYLIGHT
TZOFFSETFROM:-0500
TZOFFSETTO:-0400
TZNAME:EDT
DTSTART:20260308T070000
END:DAYLIGHT
BEGIN:STANDARD
TZOFFSETFROM:-0400
TZOFFSETTO:-0500
TZNAME:EST
DTSTART:20261101T060000
END:STANDARD
BEGIN:DAYLIGHT
TZOFFSETFROM:-0500
TZOFFSETTO:-0400
TZNAME:EDT
DTSTART:20270314T070000
END:DAYLIGHT
BEGIN:STANDARD
TZOFFSETFROM:-0400
TZOFFSETTO:-0500
TZNAME:EST
DTSTART:20271107T060000
END:STANDARD
END:VTIMEZONE
BEGIN:VEVENT
DTSTART;TZID=America/New_York:20251217T130000
DTEND;TZID=America/New_York:20251217T140000
DTSTAMP:20260423T183549
CREATED:20251114T194821Z
LAST-MODIFIED:20260421T063539Z
UID:23040-1765976400-1765980000@verusllc.com
SUMMARY:Litigation Advantage: Predict\, Prepare & Perform with Data Webinar
DESCRIPTION:Litigation Advantage: Predict\, Prepare & Perform with Data\nTurn claimant data into a strategic edge across intake\, medical review\, and MDL positioning.\n\nJoin us for this complementary CLE webinar on Wednesday\, December 17th\, 2025\, from 1:00- 2:00 PM ET.  \n  \n 
URL:https://verusllc.com/event/litigation-advantage-predict-prepare-perform-with-data-webinar/
LOCATION:Perrin Conferences\, New York\, NY\, United States
ORGANIZER;CN="Verus LLC is a proud Sponsor":MAILTO:ncroke@verusllc.com
END:VEVENT
BEGIN:VEVENT
DTSTART;TZID=America/New_York:20260220T080000
DTEND;TZID=America/New_York:20260224T170000
DTSTAMP:20260423T183549
CREATED:20260202T210003Z
LAST-MODIFIED:20260420T093103Z
UID:23214-1771574400-1771952400@verusllc.com
SUMMARY:AAJ 2026 Winter Convention
DESCRIPTION:
URL:https://verusllc.com/event/aaj-2026-winter-convention/
LOCATION:https://www.hoteldel.com/
END:VEVENT
BEGIN:VEVENT
DTSTART;TZID=America/New_York:20260305T080000
DTEND;TZID=America/New_York:20260306T123000
DTSTAMP:20260423T183549
CREATED:20260218T204254Z
LAST-MODIFIED:20260218T204254Z
UID:23237-1772697600-1772800200@verusllc.com
SUMMARY:Perrin Conferences- Cutting - Edge Issues in Asbestos Litigation
DESCRIPTION:Cutting-Edge Issues in Asbestos Litigation \nMarch 5-6\, 2026 \nEden Roc Miami Beach Resort\, Miami Beach\, FL \n4525 Collins Avenue \nMiami Beach\, FL 33140 \nConference Chairs \n\nAnthony S. Guardione\, Senior Counsel\, Travelers\, Hartford\, CT\nLisa Oberg\, Esq.\, Husch Blackwell\, Oakland\, CA\nPaul F. Slater\, Esq.\, Chief Litigation Counsel\, GE Aerospace\, Fairfield\, CT\nPerry Weitz\, Esq.\, Weitz & Luxenberg\, New York\, NY\n\nThe Opening Networking Reception is on Wednesday\, March 4. The conference panels will run from 8:00 AM on Thursday\, March 5 and conclude at 12:30 pm ET on Friday\, March 6. \nRegister Here
URL:https://verusllc.com/event/perrin-conferences-cutting-edge-issues-in-asbestos-litigation/
END:VEVENT
BEGIN:VEVENT
DTSTART;TZID=America/New_York:20260317T080000
DTEND;TZID=America/New_York:20260317T170000
DTSTAMP:20260423T183549
CREATED:20260218T205043Z
LAST-MODIFIED:20260218T205043Z
UID:23239-1773734400-1773766800@verusllc.com
SUMMARY:Perrin Conferences - PFAS Litigation and Regulatory Developments
DESCRIPTION:PFAS Litigation and Regulatory Developments Conference \nVirtual Conference\, March 17\, 2026 \nCo-Chairs: \n\nJohn Gardella\, Esq.\, CMBG3 Law\, Boston\, MA\nRyan Gillespie MSM\, CLCS\, Assistant Vice President\, Environmental Claims\, Chubb\, Chicago\, IL\n\nGeneral Registration: $495
URL:https://verusllc.com/event/perrin-conferences-pfas-litigation-and-regulatory-developments/
END:VEVENT
BEGIN:VEVENT
DTSTART;TZID=America/New_York:20260325T080000
DTEND;TZID=America/New_York:20260327T170000
DTSTAMP:20260423T183549
CREATED:20260218T205532Z
LAST-MODIFIED:20260218T205605Z
UID:23241-1774425600-1774630800@verusllc.com
SUMMARY:ABA Antitrust Conference
DESCRIPTION: 
URL:https://verusllc.com/event/aba-antitrust-conference/
END:VEVENT
BEGIN:VEVENT
DTSTART;TZID=America/New_York:20260414T123000
DTEND;TZID=America/New_York:20260414T170000
DTSTAMP:20260423T183549
CREATED:20260319T153146Z
LAST-MODIFIED:20260420T092301Z
UID:23272-1776169800-1776186000@verusllc.com
SUMMARY:The Meadow Golf Tour - April 14\, 2026
DESCRIPTION:Register Here for the Golf Outing\nhttps://www.meadowgolftour.com/#registration-section \nGolf shootout starts at 12:45 PM local time\nFor more information: tcole@verusllc.com
URL:https://verusllc.com/event/the-meadow-golf-tour-april-14-2026/
END:VEVENT
BEGIN:VEVENT
DTSTART;TZID=America/New_York:20260415T080000
DTEND;TZID=America/New_York:20260417T170000
DTSTAMP:20260423T183549
CREATED:20260319T153939Z
LAST-MODIFIED:20260319T153939Z
UID:23274-1776240000-1776445200@verusllc.com
SUMMARY:MTMP Spring Conference 2026
DESCRIPTION:TheMassTortsMadePerfect(MTMP)Spring2026conference\n\n\n\n\n\nEvent Overview\nDates: April 15-17\, 2026\nLocation: Wynn Hotel\, Las Vegas\, Nevada
URL:https://verusllc.com/event/mtmp-spring-conference-2026/
END:VEVENT
BEGIN:VEVENT
DTSTART;TZID=America/New_York:20260506T130000
DTEND;TZID=America/New_York:20260506T140000
DTSTAMP:20260423T183549
CREATED:20260319T154929Z
LAST-MODIFIED:20260319T154929Z
UID:23278-1778072400-1778076000@verusllc.com
SUMMARY:Social Media Addiction Cases: Litigation Updates\, Ethical Considerations\, and a Practical Framework for PFS and Case Management
DESCRIPTION:  \nSocial Media Addiction Cases: Litigation Updates\, Ethical Considerations\, and a Practical Framework for PFS and Case Management \nhttps://www.perrinconferences.com/webinars/ \n \nMay 6th 1-2PM \n 
URL:https://verusllc.com/event/social-media-addiction-cases-litigation-updates-ethical-considerations-and-a-practical-framework-for-pfs-and-case-management/
END:VEVENT
BEGIN:VEVENT
DTSTART;TZID=America/New_York:20260512T083000
DTEND;TZID=America/New_York:20260512T180000
DTSTAMP:20260423T183549
CREATED:20260319T155528Z
LAST-MODIFIED:20260319T160046Z
UID:23280-1778574600-1778608800@verusllc.com
SUMMARY:Emerging Fronts in Sex Trafficking Litigation - Perrin Conferences
DESCRIPTION:May 12\, 2026 \nRegister Here  \nUnion League of Philadelphia \n140 S Broad St \n\nPhiladelphia\, PA 19102\nAgenda
URL:https://verusllc.com/event/emerging-fronts-in-sex-trafficking-litigation-perrin-conferences/
END:VEVENT
END:VCALENDAR