BEGIN:VCALENDAR
VERSION:2.0
PRODID:-//Verus LLC - ECPv6.15.20//NONSGML v1.0//EN
CALSCALE:GREGORIAN
METHOD:PUBLISH
X-WR-CALNAME:Verus LLC
X-ORIGINAL-URL:https://verusllc.com
X-WR-CALDESC:Events for Verus LLC
REFRESH-INTERVAL;VALUE=DURATION:PT1H
X-Robots-Tag:noindex
X-PUBLISHED-TTL:PT1H
BEGIN:VTIMEZONE
TZID:America/New_York
BEGIN:DAYLIGHT
TZOFFSETFROM:-0500
TZOFFSETTO:-0400
TZNAME:EDT
DTSTART:20240310T070000
END:DAYLIGHT
BEGIN:STANDARD
TZOFFSETFROM:-0400
TZOFFSETTO:-0500
TZNAME:EST
DTSTART:20241103T060000
END:STANDARD
BEGIN:DAYLIGHT
TZOFFSETFROM:-0500
TZOFFSETTO:-0400
TZNAME:EDT
DTSTART:20250309T070000
END:DAYLIGHT
BEGIN:STANDARD
TZOFFSETFROM:-0400
TZOFFSETTO:-0500
TZNAME:EST
DTSTART:20251102T060000
END:STANDARD
BEGIN:DAYLIGHT
TZOFFSETFROM:-0500
TZOFFSETTO:-0400
TZNAME:EDT
DTSTART:20260308T070000
END:DAYLIGHT
BEGIN:STANDARD
TZOFFSETFROM:-0400
TZOFFSETTO:-0500
TZNAME:EST
DTSTART:20261101T060000
END:STANDARD
END:VTIMEZONE
BEGIN:VEVENT
DTSTART;TZID=America/New_York:20250612T080000
DTEND;TZID=America/New_York:20250612T170000
DTSTAMP:20260423T112212
CREATED:20250602T142059Z
LAST-MODIFIED:20250709T145442Z
UID:22858-1749715200-1749747600@verusllc.com
SUMMARY:Emerging Frontiers in Mass Tort: Navigating GLP-1 and Depo Provera Litigation- Webinar
DESCRIPTION:Emerging Frontiers in Mass Tort: Navigating GLP-1 and Depo Provera Litigation – A strategic look at two high-impact pharmaceutical MDLs and how to prepare. \n\nJoin us for this complementary CLE webinar on June 12\, 2025 from 2:00- 3:00 PM ET.  \nWebinar Sponsored By: Verus \nSpeaking: Mark Eveland\, Founder and Chief Strategy Officer\, Verus LLC
URL:https://verusllc.com/event/emerging-frontiers-in-mass-tort-navigating-glp-1-and-depo-provera-litigation-webinar/
ATTACH;FMTTYPE=image/png:https://verusllc.com/wp-content/uploads/2025/06/Mark-Eveland-2-scaled.png
ORGANIZER;CN="Verus LLC is a proud Sponsor":MAILTO:ncroke@verusllc.com
END:VEVENT
BEGIN:VEVENT
DTSTART;TZID=America/New_York:20250617T080000
DTEND;TZID=America/New_York:20250618T170000
DTSTAMP:20260423T112212
CREATED:20250210T150223Z
LAST-MODIFIED:20250602T145058Z
UID:22652-1750147200-1750266000@verusllc.com
SUMMARY:Environmental Risk and PFAS Litigation Conference- Perrin Conferences-
DESCRIPTION:Mark Eveland Panel\, Wednesday June 18\, 2025 @ 10:45 AM – 11:30 AM – Outlook on Mass Tort Reform \n• Current MDLs\, bellwether trends and emerging jurisdictions • Is now the time for Mass Tort reform? • Barrier to overcome to see this change enacted • Challenging expert opinions • Potential settlement frameworks and approaches to risk forecasting \nPerrin Conferences\, a women-owned leader in litigation education\, provides top-tier CLE/CE programs through conferences\, webinars\, and specialized events. Since 2009\, we have connected legal professionals\, insurers\, and industry experts to discuss critical litigation topics\, including asbestos\, opioids\, environmental risk\, and insurance coverage.
URL:https://verusllc.com/event/environmental-risk-and-pfas-litigation-conference-perrin-conferences/
LOCATION:New York City Bar Association\, New York\, NY
ATTACH;FMTTYPE=image/jpeg:https://verusllc.com/wp-content/uploads/2025/02/PC-Environmental-June.jpg
END:VEVENT
END:VCALENDAR